BEGIN:VCALENDAR
VERSION:2.0
PRODID:-//Høybråten Normisjon - ECPv4.6.26.2//NONSGML v1.0//EN
CALSCALE:GREGORIAN
METHOD:PUBLISH
X-WR-CALNAME:Høybråten Normisjon
X-ORIGINAL-URL:https://hoybraten.normisjon.no
X-WR-CALDESC:Events for Høybråten Normisjon
BEGIN:VEVENT
DTSTART;TZID=Europe/Oslo:20230316T190000
DTEND;TZID=Europe/Oslo:20230316T220000
DTSTAMP:20260423T232230
CREATED:20230101T221321Z
LAST-MODIFIED:20230307T203140Z
UID:1286-1678993200-1679004000@hoybraten.normisjon.no
SUMMARY:Gospelnight med MTB\, Sissel og Thor Alf Gilbrant og Vidar Kristiansen
DESCRIPTION:
URL:https://hoybraten.normisjon.no/event/gospelnight-med-lokale-artister/
CATEGORIES:Alle Aktiviteter,Kulturkveld,Torsdagsmøte
ATTACH;FMTTYPE=image/jpeg:https://hoybraten.normisjon.no/content/uploads/sites/16/2023/01/MaritEckloBrevik.jpg
END:VEVENT
END:VCALENDAR