BEGIN:VCALENDAR
VERSION:2.0
PRODID:-//Høybråten Normisjon - ECPv4.6.26.2//NONSGML v1.0//EN
CALSCALE:GREGORIAN
METHOD:PUBLISH
X-WR-CALNAME:Høybråten Normisjon
X-ORIGINAL-URL:https://hoybraten.normisjon.no
X-WR-CALDESC:Events for Høybråten Normisjon
BEGIN:VEVENT
DTSTART;TZID=Europe/Oslo:20201112T190000
DTEND;TZID=Europe/Oslo:20201112T190000
DTSTAMP:20260425T220555
CREATED:20201008T202727Z
LAST-MODIFIED:20201108T204818Z
UID:994-1605207600-1605207600@hoybraten.normisjon.no
SUMMARY:Møtet er avlyst p.g.a. smittesituasjonen
DESCRIPTION:Svein Granerud med tema: Frimodig tro \n
URL:https://hoybraten.normisjon.no/event/mote-6/
LOCATION:Bergtunveien 2
CATEGORIES:Alle Aktiviteter,Torsdagsmøte
ATTACH;FMTTYPE=image/png:https://hoybraten.normisjon.no/content/uploads/sites/16/2019/05/SveinGranerud.png
END:VEVENT
END:VCALENDAR