BEGIN:VCALENDAR
VERSION:2.0
PRODID:-//Høybråten Normisjon - ECPv4.6.26.2//NONSGML v1.0//EN
CALSCALE:GREGORIAN
METHOD:PUBLISH
X-WR-CALNAME:Høybråten Normisjon
X-ORIGINAL-URL:https://hoybraten.normisjon.no
X-WR-CALDESC:Events for Høybråten Normisjon
BEGIN:VEVENT
DTSTART;TZID=Europe/Oslo:20230928T190000
DTEND;TZID=Europe/Oslo:20230928T220000
DTSTAMP:20260423T120905
CREATED:20230703T185854Z
LAST-MODIFIED:20230804T130405Z
UID:1382-1695927600-1695938400@hoybraten.normisjon.no
SUMMARY:Stig-Øyvind Blystad taler
DESCRIPTION:
URL:https://hoybraten.normisjon.no/event/mote-kl-1900-4/
CATEGORIES:Alle Aktiviteter,Kulturkveld,Torsdagsmøte
ATTACH;FMTTYPE=image/jpeg:https://hoybraten.normisjon.no/content/uploads/sites/16/2023/07/Stig-Oyvind-Blystad-e1691154233780.jpg
END:VEVENT
END:VCALENDAR