BEGIN:VCALENDAR
VERSION:2.0
PRODID:-//Høybråten Normisjon - ECPv4.6.26.2//NONSGML v1.0//EN
CALSCALE:GREGORIAN
METHOD:PUBLISH
X-WR-CALNAME:Høybråten Normisjon
X-ORIGINAL-URL:https://hoybraten.normisjon.no
X-WR-CALDESC:Events for Høybråten Normisjon
BEGIN:VEVENT
DTSTART;TZID=Europe/Oslo:20230831T190000
DTEND;TZID=Europe/Oslo:20230831T220000
DTSTAMP:20260423T140920
CREATED:20230703T182944Z
LAST-MODIFIED:20230820T134953Z
UID:1365-1693508400-1693519200@hoybraten.normisjon.no
SUMMARY:Kåre Rune Hauge taler. Tema: Hvordan være kirke i dagens samfunn. Sissel og Thor Alf Gilbrant deltar med sang og musikk
DESCRIPTION:
URL:https://hoybraten.normisjon.no/event/mote-kl-1900-med-kare-rune-hauge/
CATEGORIES:Alle Aktiviteter,Kulturkveld,Torsdagsmøte
ATTACH;FMTTYPE=image/jpeg:https://hoybraten.normisjon.no/content/uploads/sites/16/2019/05/KåreRuneHauge2-e1558730828240.jpg
END:VEVENT
END:VCALENDAR