BEGIN:VCALENDAR
VERSION:2.0
PRODID:-//Høybråten Normisjon - ECPv4.6.26.2//NONSGML v1.0//EN
CALSCALE:GREGORIAN
METHOD:PUBLISH
X-WR-CALNAME:Høybråten Normisjon
X-ORIGINAL-URL:https://hoybraten.normisjon.no
X-WR-CALDESC:Events for Høybråten Normisjon
BEGIN:VEVENT
DTSTART;TZID=Europe/Oslo:20230907T190000
DTEND;TZID=Europe/Oslo:20230907T220000
DTSTAMP:20260423T153124
CREATED:20230703T185403Z
LAST-MODIFIED:20230814T192628Z
UID:1376-1694113200-1694124000@hoybraten.normisjon.no
SUMMARY:Vidar Kristiansen taler.
DESCRIPTION:
URL:https://hoybraten.normisjon.no/event/mote-kl-1900/
CATEGORIES:Alle Aktiviteter,Kulturkveld
ATTACH;FMTTYPE=image/jpeg:https://hoybraten.normisjon.no/content/uploads/sites/16/2019/05/VidarKristiansen-2.jpg
END:VEVENT
END:VCALENDAR