BEGIN:VCALENDAR
VERSION:2.0
PRODID:-//Høybråten Normisjon - ECPv4.6.26.2//NONSGML v1.0//EN
CALSCALE:GREGORIAN
METHOD:PUBLISH
X-WR-CALNAME:Høybråten Normisjon
X-ORIGINAL-URL:https://hoybraten.normisjon.no
X-WR-CALDESC:Events for Høybråten Normisjon
BEGIN:VEVENT
DTSTART;TZID=Europe/Oslo:20200514T080000
DTEND;TZID=Europe/Oslo:20200930T170000
DTSTAMP:20260426T025655
CREATED:20200311T202542Z
LAST-MODIFIED:20200514T095052Z
UID:967-1589443200-1601485200@hoybraten.normisjon.no
SUMMARY:Våre Torsdagsmøter er dessverre avlyst inntil videre\, på grunn av risikoen knyttet til spredning av coronaviruset
DESCRIPTION:Under vår hovedoverskrift våren 2020\, Sterk og sårbar\, erkjenner vi at sårbarheten for koronaviruset også må tas på alvor. Derfor har vi valgt å avlyse våre samlinger resten av vårsemesteret. \nNår anbefalinger fra helsemyndighetene tilsier at vi kan starte opp igjen til høsten skal vi være klare med nye interessante møter på torsdagskveldene. \nVi planlegger ut fra at vi kan være i gang igjen med våre møter fra 1. oktober 2020\, men fortsatt med forbehold om utvikling av Coronasituasjonen \n
URL:https://hoybraten.normisjon.no/event/vare-torsdagsmoter-er-dessverre-avlyst-inntil-videre-pa-grunn-av-risikoen-knyttet-til-spredning-av-coronaviruset/
CATEGORIES:Alle Aktiviteter,Torsdagsmøte
ATTACH;FMTTYPE=image/png:https://hoybraten.normisjon.no/content/uploads/sites/16/2020/03/koronavirus.png
END:VEVENT
END:VCALENDAR