BEGIN:VCALENDAR
VERSION:2.0
PRODID:-//Høybråten Normisjon - ECPv4.6.26.2//NONSGML v1.0//EN
CALSCALE:GREGORIAN
METHOD:PUBLISH
X-WR-CALNAME:Høybråten Normisjon
X-ORIGINAL-URL:https://hoybraten.normisjon.no
X-WR-CALDESC:Events for Høybråten Normisjon
BEGIN:VEVENT
DTSTART;TZID=Europe/Oslo:20201203T190000
DTEND;TZID=Europe/Oslo:20201203T190000
DTSTAMP:20260425T203034
CREATED:20201008T215434Z
LAST-MODIFIED:20201125T095406Z
UID:1005-1607022000-1607022000@hoybraten.normisjon.no
SUMMARY:Møte er avlyst på grunn av smittesituasjonen
DESCRIPTION:Adventstiden i ord og toner med MTB og Marianne Solbakken \nNår julen nærmer seg har vi en tradisjon for å la våre egne aktører få fylle podiet på bedehuset. Slik blir det også i år\, med Marianne Solbakken som leser dikt og fortellinger knyttet til  advent og jul. \nTrioen\, MTB\, bestående av Marit Ecklo Brevik\, Trond Leberg og Berit Larsen bidrar med passende sang og musikk. \n  \nDette må du bare få med deg! \n
URL:https://hoybraten.normisjon.no/event/adventstiden-i-ord-og-toner-med-mtb-og-marianne-solbakken-2/
LOCATION:Bergtunveien 2
CATEGORIES:Alle Aktiviteter,Torsdagsmøte
ATTACH;FMTTYPE=image/jpeg:https://hoybraten.normisjon.no/content/uploads/sites/16/2019/05/Advent-illustrasjon-lys.Wikimedia-620-e1559170200871.jpg
END:VEVENT
END:VCALENDAR