BEGIN:VCALENDAR
VERSION:2.0
PRODID:-//Høybråten Normisjon - ECPv4.6.26.2//NONSGML v1.0//EN
CALSCALE:GREGORIAN
METHOD:PUBLISH
X-WR-CALNAME:Høybråten Normisjon
X-ORIGINAL-URL:https://hoybraten.normisjon.no
X-WR-CALDESC:Events for Høybråten Normisjon
BEGIN:VEVENT
DTSTART;TZID=Europe/Oslo:20201204T080000
DTEND;TZID=Europe/Oslo:20210217T170000
DTSTAMP:20260425T165254
CREATED:20201125T095750Z
LAST-MODIFIED:20201125T095952Z
UID:1035-1607068800-1613581200@hoybraten.normisjon.no
SUMMARY:På grunn av usikkerhet knyttet til koronasituasjonen vil vårsemesteret 2021 starte tidligst 18. februar
DESCRIPTION:
URL:https://hoybraten.normisjon.no/event/pa-grunn-av-usikkerhet-knyttet-til-koronasituasjonen-vil-varsemesteret-20201-starte-tidligst-18-februar/
CATEGORIES:Alle Aktiviteter,Torsdagsmøte
ATTACH;FMTTYPE=image/jpeg:https://hoybraten.normisjon.no/content/uploads/sites/16/2019/05/bible-185372_960_720-e1575673685523.jpg
END:VEVENT
END:VCALENDAR