BEGIN:VCALENDAR
VERSION:2.0
PRODID:-//Høybråten Normisjon - ECPv4.6.26.2//NONSGML v1.0//EN
CALSCALE:GREGORIAN
METHOD:PUBLISH
X-WR-CALNAME:Høybråten Normisjon
X-ORIGINAL-URL:https://hoybraten.normisjon.no
X-WR-CALDESC:Events for Høybråten Normisjon
BEGIN:VEVENT
DTSTART;TZID=Europe/Oslo:20211028T190000
DTEND;TZID=Europe/Oslo:20211028T220000
DTSTAMP:20260425T040228
CREATED:20210828T210741Z
LAST-MODIFIED:20210828T210820Z
UID:1062-1635447600-1635458400@hoybraten.normisjon.no
SUMMARY:Møte med Jostein Larsen kl 19:00
DESCRIPTION:
URL:https://hoybraten.normisjon.no/event/mote-med-jostein-larsen-kl-1900/
CATEGORIES:Alle Aktiviteter,Torsdagsmøte
ATTACH;FMTTYPE=image/jpeg:https://hoybraten.normisjon.no/content/uploads/sites/16/2020/10/Jostein-Larsen.jpg
END:VEVENT
END:VCALENDAR