BEGIN:VCALENDAR
VERSION:2.0
PRODID:-//Høybråten Normisjon - ECPv4.6.26.2//NONSGML v1.0//EN
CALSCALE:GREGORIAN
METHOD:PUBLISH
X-WR-CALNAME:Høybråten Normisjon
X-ORIGINAL-URL:https://hoybraten.normisjon.no
X-WR-CALDESC:Events for Høybråten Normisjon
BEGIN:VEVENT
DTSTART;TZID=Europe/Oslo:20211202T190000
DTEND;TZID=Europe/Oslo:20211202T220000
DTSTAMP:20260425T000018
CREATED:20210828T212948Z
LAST-MODIFIED:20210828T212950Z
UID:1074-1638471600-1638482400@hoybraten.normisjon.no
SUMMARY:Adventstid i ord og toner ved Trioen MTB og Marianne Solbakken
DESCRIPTION:Adventstiden i ord og toner med MTB og Marianne Solbakken \nNår julen nærmer seg har vi en tradisjon for å la våre egne aktører få fylle podiet på bedehuset. Slik blir det også i år\, med Marianne Solbakken som leser dikt og fortellinger knyttet til  advent og jul. \nTrioen\, MTB\, bestående av Marit Ecklo Brevik\, Trond Leberg og Berit Larsen bidrar med passende sang og musikk. \n  \nDette må du bare få med deg! \n
URL:https://hoybraten.normisjon.no/event/adventstid-i-ord-og-toner-ved-trioen-mtb-og-marianne-solbakken/
CATEGORIES:Alle Aktiviteter,Torsdagsmøte
ATTACH;FMTTYPE=image/jpeg:https://hoybraten.normisjon.no/content/uploads/sites/16/2021/08/Advent-illustrasjon-lys.Wikimedia-620.jpg
END:VEVENT
END:VCALENDAR