BEGIN:VCALENDAR
VERSION:2.0
PRODID:-//Høybråten Normisjon - ECPv4.6.26.2//NONSGML v1.0//EN
CALSCALE:GREGORIAN
METHOD:PUBLISH
X-WR-CALNAME:Høybråten Normisjon
X-ORIGINAL-URL:https://hoybraten.normisjon.no
X-WR-CALDESC:Events for Høybråten Normisjon
BEGIN:VEVENT
DTSTART;TZID=Europe/Oslo:20220120T193000
DTEND;TZID=Europe/Oslo:20220120T220000
DTSTAMP:20260424T221154
CREATED:20210828T211531Z
LAST-MODIFIED:20220119T130331Z
UID:1068-1642707000-1642716000@hoybraten.normisjon.no
SUMMARY:Møte med Preben Colstrup Tema: Halvhjertet men helfrelst
DESCRIPTION:Møtet starter kl 19:30 \n
URL:https://hoybraten.normisjon.no/event/mote-med-preben-colstrup-kl-1900/
CATEGORIES:Alle Aktiviteter,Torsdagsmøte
ATTACH;FMTTYPE=image/png:https://hoybraten.normisjon.no/content/uploads/sites/16/2019/12/Preben-Colstrup.png
END:VEVENT
END:VCALENDAR