BEGIN:VCALENDAR
VERSION:2.0
PRODID:-//Høybråten Normisjon - ECPv4.6.26.2//NONSGML v1.0//EN
CALSCALE:GREGORIAN
METHOD:PUBLISH
X-WR-CALNAME:Høybråten Normisjon
X-ORIGINAL-URL:https://hoybraten.normisjon.no
X-WR-CALDESC:Events for Høybråten Normisjon
BEGIN:VEVENT
DTSTART;TZID=Europe/Oslo:20220908T190000
DTEND;TZID=Europe/Oslo:20220908T220000
DTSTAMP:20260424T085047
CREATED:20220802T210039Z
LAST-MODIFIED:20220802T210155Z
UID:1205-1662663600-1662674400@hoybraten.normisjon.no
SUMMARY:Skråblikk fra bedehusland ved Arne Nordbø
DESCRIPTION:Arne Nordbø synger og underholder med kjent og kjært i litt nye varianter. \nKom og få en latter og samtidig noe å tenke på. \nSanger og historier fra bedehusland \n
URL:https://hoybraten.normisjon.no/event/skrablikk-fra-bedehusland-ved-arne-nordbo/
CATEGORIES:Alle Aktiviteter,Torsdagsmøte
ATTACH;FMTTYPE=image/jpeg:https://hoybraten.normisjon.no/content/uploads/sites/16/2022/08/Arne-Nordbo-e1659474027679.jpg
END:VEVENT
END:VCALENDAR