BEGIN:VCALENDAR
VERSION:2.0
PRODID:-//Høybråten Normisjon - ECPv4.6.26.2//NONSGML v1.0//EN
CALSCALE:GREGORIAN
METHOD:PUBLISH
X-WR-CALNAME:Høybråten Normisjon
X-ORIGINAL-URL:https://hoybraten.normisjon.no
X-WR-CALDESC:Events for Høybråten Normisjon
BEGIN:VEVENT
DTSTART;TZID=Europe/Oslo:20220929T190000
DTEND;TZID=Europe/Oslo:20220929T220000
DTSTAMP:20260424T071048
CREATED:20220803T195427Z
LAST-MODIFIED:20220831T204429Z
UID:1214-1664478000-1664488800@hoybraten.normisjon.no
SUMMARY:Medlemsmøte
DESCRIPTION:
URL:https://hoybraten.normisjon.no/event/medlemsmote-kl-1900-2/
CATEGORIES:Alle Aktiviteter,Torsdagsmøte
ATTACH;FMTTYPE=image/jpeg:https://hoybraten.normisjon.no/content/uploads/sites/16/2021/08/Bedehuset-e1715461514132.jpg
END:VEVENT
END:VCALENDAR