BEGIN:VCALENDAR
VERSION:2.0
PRODID:-//Høybråten Normisjon - ECPv4.6.26.2//NONSGML v1.0//EN
CALSCALE:GREGORIAN
METHOD:PUBLISH
X-WR-CALNAME:Høybråten Normisjon
X-ORIGINAL-URL:https://hoybraten.normisjon.no
X-WR-CALDESC:Events for Høybråten Normisjon
BEGIN:VEVENT
DTSTART;TZID=Europe/Oslo:20230209T190000
DTEND;TZID=Europe/Oslo:20230209T220000
DTSTAMP:20260424T011017
CREATED:20230102T081658Z
LAST-MODIFIED:20230102T081659Z
UID:1288-1675969200-1675980000@hoybraten.normisjon.no
SUMMARY:Tre och en Flygel. Marianne Solbakken og Trond Leberg i samtale med Anette Bøe Thorkildson
DESCRIPTION:Marianne og Trond setter seg rundt flygelet og samtaler med vår menighetsrådsleder Anette. \n
URL:https://hoybraten.normisjon.no/event/tre-och-en-flygel-marianne-solbakken-og-trond-leberg-i-samtale-med-anette-boe-thorkildson/
CATEGORIES:Alle Aktiviteter,Kulturkveld,Torsdagsmøte
ATTACH;FMTTYPE=image/jpeg:https://hoybraten.normisjon.no/content/uploads/sites/16/2023/01/Anette-boe-T-e1672647366541.jpg
END:VEVENT
END:VCALENDAR