BEGIN:VCALENDAR
VERSION:2.0
PRODID:-//Høybråten Normisjon - ECPv4.6.26.2//NONSGML v1.0//EN
CALSCALE:GREGORIAN
METHOD:PUBLISH
X-WR-CALNAME:Høybråten Normisjon
X-ORIGINAL-URL:https://hoybraten.normisjon.no
X-WR-CALDESC:Events for Høybråten Normisjon
BEGIN:VEVENT
DTSTART;TZID=Europe/Oslo:20230223T190000
DTEND;TZID=Europe/Oslo:20230223T220000
DTSTAMP:20260424T010141
CREATED:20230101T220607Z
LAST-MODIFIED:20230102T230946Z
UID:1277-1677178800-1677189600@hoybraten.normisjon.no
SUMMARY:Svein Granerud taler. Tema:
DESCRIPTION:
URL:https://hoybraten.normisjon.no/event/mote-11/
CATEGORIES:Alle Aktiviteter,Kulturkveld,Torsdagsmøte
ATTACH;FMTTYPE=image/png:https://hoybraten.normisjon.no/content/uploads/sites/16/2019/05/SveinGranerud.png
END:VEVENT
END:VCALENDAR