BEGIN:VCALENDAR
VERSION:2.0
PRODID:-//Høybråten Normisjon - ECPv4.6.26.2//NONSGML v1.0//EN
CALSCALE:GREGORIAN
METHOD:PUBLISH
X-WR-CALNAME:Høybråten Normisjon
X-ORIGINAL-URL:https://hoybraten.normisjon.no
X-WR-CALDESC:Events for Høybråten Normisjon
BEGIN:VEVENT
DTSTART;TZID=Europe/Oslo:20230309T190000
DTEND;TZID=Europe/Oslo:20230309T220000
DTSTAMP:20260423T233602
CREATED:20230101T221023Z
LAST-MODIFIED:20230125T195236Z
UID:1281-1678388400-1678399200@hoybraten.normisjon.no
SUMMARY:Magnus Løvåsen taler. Tema: Trygg fra gamle anklager. Sang og musikk ved Sissel og Thor Alf Gilbrant
DESCRIPTION:
URL:https://hoybraten.normisjon.no/event/mote-13/
CATEGORIES:Alle Aktiviteter,Kulturkveld,Torsdagsmøte
ATTACH;FMTTYPE=image/jpeg:https://hoybraten.normisjon.no/content/uploads/sites/16/2023/01/Magnus-Llovasen-e1673557896323.jpg
END:VEVENT
END:VCALENDAR