BEGIN:VCALENDAR
VERSION:2.0
PRODID:-//Høybråten Normisjon - ECPv4.6.26.2//NONSGML v1.0//EN
CALSCALE:GREGORIAN
METHOD:PUBLISH
X-WR-CALNAME:Høybråten Normisjon
X-ORIGINAL-URL:https://hoybraten.normisjon.no
X-WR-CALDESC:Events for Høybråten Normisjon
BEGIN:VEVENT
DTSTART;TZID=Europe/Oslo:20230330T190000
DTEND;TZID=Europe/Oslo:20230330T220000
DTSTAMP:20260423T214933
CREATED:20230102T222602Z
LAST-MODIFIED:20230102T222603Z
UID:1293-1680202800-1680213600@hoybraten.normisjon.no
SUMMARY:Jødisk kristent påskemåltid ved Bjørn Helge Sandvei\, Sissel og Thor Alf Gilbrant
DESCRIPTION:
URL:https://hoybraten.normisjon.no/event/jodisk-kristent-paskemaltid-ved-bjorn-helge-sandvei-sissel-og-thor-alf-gilbrant/
CATEGORIES:Alle Aktiviteter,Kulturkveld,Torsdagsmøte
END:VEVENT
END:VCALENDAR