BEGIN:VCALENDAR
VERSION:2.0
PRODID:-//Høybråten Normisjon - ECPv4.6.26.2//NONSGML v1.0//EN
CALSCALE:GREGORIAN
METHOD:PUBLISH
X-WR-CALNAME:Høybråten Normisjon
X-ORIGINAL-URL:https://hoybraten.normisjon.no
X-WR-CALDESC:Events for Høybråten Normisjon
BEGIN:VEVENT
DTSTART;TZID=Europe/Oslo:20230914T190000
DTEND;TZID=Europe/Oslo:20230914T220000
DTSTAMP:20260423T140942
CREATED:20230703T185619Z
LAST-MODIFIED:20230802T142608Z
UID:1378-1694718000-1694728800@hoybraten.normisjon.no
SUMMARY:Salmer og sanger vi gjerne synger - Marit Ecklo Brevik med venner
DESCRIPTION:Møte \n
URL:https://hoybraten.normisjon.no/event/mote-kl-1900-2/
CATEGORIES:Alle Aktiviteter,Kulturkveld,Torsdagsmøte
ATTACH;FMTTYPE=image/jpeg:https://hoybraten.normisjon.no/content/uploads/sites/16/2023/01/MaritEckloBrevik.jpg
END:VEVENT
END:VCALENDAR