BEGIN:VCALENDAR
VERSION:2.0
PRODID:-//Høybråten Normisjon - ECPv4.6.26.2//NONSGML v1.0//EN
CALSCALE:GREGORIAN
METHOD:PUBLISH
X-WR-CALNAME:Høybråten Normisjon
X-ORIGINAL-URL:https://hoybraten.normisjon.no
X-WR-CALDESC:Events for Høybråten Normisjon
BEGIN:VEVENT
DTSTART;TZID=Europe/Oslo:20230921T190000
DTEND;TZID=Europe/Oslo:20230921T220000
DTSTAMP:20260423T140845
CREATED:20230425T190550Z
LAST-MODIFIED:20230425T190552Z
UID:1347-1695322800-1695333600@hoybraten.normisjon.no
SUMMARY:Regionleder Aslaug Irene Halden Gjerull taler
DESCRIPTION:Aslaug Irene startet som Regionleder i Normisjon region Øst i 2022. \n
URL:https://hoybraten.normisjon.no/event/regionleder-aslaug-irene-halden-gjerull-taler/
CATEGORIES:Alle Aktiviteter,Kulturkveld,Torsdagsmøte
ATTACH;FMTTYPE=image/jpeg:https://hoybraten.normisjon.no/content/uploads/sites/16/2023/04/Aslaug-Irene-Halden-Gjerull-e1682449536979.jpg
END:VEVENT
END:VCALENDAR