BEGIN:VCALENDAR
VERSION:2.0
PRODID:-//Høybråten Normisjon - ECPv4.6.26.2//NONSGML v1.0//EN
CALSCALE:GREGORIAN
METHOD:PUBLISH
X-WR-CALNAME:Høybråten Normisjon
X-ORIGINAL-URL:https://hoybraten.normisjon.no
X-WR-CALDESC:Events for Høybråten Normisjon
BEGIN:VEVENT
DTSTART;TZID=Europe/Oslo:20231109T190000
DTEND;TZID=Europe/Oslo:20231109T220000
DTSTAMP:20260423T103750
CREATED:20230703T190145Z
LAST-MODIFIED:20231102T150112Z
UID:1386-1699556400-1699567200@hoybraten.normisjon.no
SUMMARY:Egil Sjåstad taler over første trosartikkel
DESCRIPTION:
URL:https://hoybraten.normisjon.no/event/mote-kl-1900-6/
CATEGORIES:Alle Aktiviteter,Kulturkveld,Torsdagsmøte
ATTACH;FMTTYPE=image/jpeg:https://hoybraten.normisjon.no/content/uploads/sites/16/2023/07/Egil-Sjastad-e1691154427204.jpg
END:VEVENT
END:VCALENDAR