BEGIN:VCALENDAR
VERSION:2.0
PRODID:-//Høybråten Normisjon - ECPv4.6.26.2//NONSGML v1.0//EN
CALSCALE:GREGORIAN
METHOD:PUBLISH
X-WR-CALNAME:Høybråten Normisjon
X-ORIGINAL-URL:https://hoybraten.normisjon.no
X-WR-CALDESC:Events for Høybråten Normisjon
BEGIN:VEVENT
DTSTART;TZID=Europe/Oslo:20240502T190000
DTEND;TZID=Europe/Oslo:20240502T220000
DTSTAMP:20260421T005623
CREATED:20240118T203909Z
LAST-MODIFIED:20240221T190430Z
UID:1482-1714676400-1714687200@hoybraten.normisjon.no
SUMMARY:Dugnad - Kom og vær med å vaske\, rydde og annet praktisk arbeid på huset. En god mulighet til å bli bedre kjent med andre.
DESCRIPTION:
URL:https://hoybraten.normisjon.no/event/dugnad-kom-a-vaere-med-a-vaske-rydde-og-annet-praktisk-arbeid-pa-huset/
CATEGORIES:Alle Aktiviteter,Kulturkveld,Torsdagsmøte
ATTACH;FMTTYPE=image/jpeg:https://hoybraten.normisjon.no/content/uploads/sites/16/2022/01/Trillebar-e1682452029356.jpg
END:VEVENT
END:VCALENDAR