BEGIN:VCALENDAR
VERSION:2.0
PRODID:-//Høybråten Normisjon - ECPv4.6.26.2//NONSGML v1.0//EN
CALSCALE:GREGORIAN
METHOD:PUBLISH
X-WR-CALNAME:Høybråten Normisjon
X-ORIGINAL-URL:https://hoybraten.normisjon.no
X-WR-CALDESC:Events for Høybråten Normisjon
BEGIN:VEVENT
DTSTART;TZID=Europe/Oslo:20240926T190000
DTEND;TZID=Europe/Oslo:20240926T210000
DTSTAMP:20260420T173308
CREATED:20240511T204002Z
LAST-MODIFIED:20240814T211029Z
UID:1526-1727377200-1727384400@hoybraten.normisjon.no
SUMMARY:Møte kl 19:00 Salmer og sanger vi gjerne synger – Marit Ecklo Brevik og Vidar Kristiansen med flere
DESCRIPTION:
URL:https://hoybraten.normisjon.no/event/mote-kl-1900-9/
CATEGORIES:Alle Aktiviteter,Kulturkveld,Torsdagsmøte
ATTACH;FMTTYPE=image/jpeg:https://hoybraten.normisjon.no/content/uploads/sites/16/2023/01/MaritEckloBrevik.jpg
END:VEVENT
END:VCALENDAR