BEGIN:VCALENDAR
VERSION:2.0
PRODID:-//Høybråten Normisjon - ECPv4.6.26.2//NONSGML v1.0//EN
CALSCALE:GREGORIAN
METHOD:PUBLISH
X-WR-CALNAME:Høybråten Normisjon
X-ORIGINAL-URL:https://hoybraten.normisjon.no
X-WR-CALDESC:Events for Høybråten Normisjon
BEGIN:VEVENT
DTSTART;TZID=Europe/Oslo:20241010T190000
DTEND;TZID=Europe/Oslo:20241010T210000
DTSTAMP:20260420T153241
CREATED:20240511T210230Z
LAST-MODIFIED:20240811T192243Z
UID:1531-1728586800-1728594000@hoybraten.normisjon.no
SUMMARY:Møte kl 19:00 Antonia Barbosa Da Silva taler Tema: Livets og lidelsens mening i lys av det kristne håp
DESCRIPTION:
URL:https://hoybraten.normisjon.no/event/mote-kl-1900-10/
CATEGORIES:Alle Aktiviteter,Kulturkveld,Torsdagsmøte
ATTACH;FMTTYPE=image/jpeg:https://hoybraten.normisjon.no/content/uploads/sites/16/2024/05/Antonio-Barbosa-Da-Silva-e1723404149752.jpg
END:VEVENT
END:VCALENDAR