BEGIN:VCALENDAR
VERSION:2.0
PRODID:-//Høybråten Normisjon - ECPv4.6.26.2//NONSGML v1.0//EN
CALSCALE:GREGORIAN
METHOD:PUBLISH
X-WR-CALNAME:Høybråten Normisjon
X-ORIGINAL-URL:https://hoybraten.normisjon.no
X-WR-CALDESC:Events for Høybråten Normisjon
BEGIN:VEVENT
DTSTART;TZID=Europe/Oslo:20241020T170000
DTEND;TZID=Europe/Oslo:20241020T200000
DTSTAMP:20260420T153203
CREATED:20240825T205900Z
LAST-MODIFIED:20240826T200721Z
UID:1594-1729443600-1729454400@hoybraten.normisjon.no
SUMMARY:Gospelcafé med Bandet Pluss - . Vokalister Kristin Fredbo Gramstad og Ingvild Fredbo
DESCRIPTION:Bandet spiller 70\, 80 og 90 talls kristen populærmusikk. \n
URL:https://hoybraten.normisjon.no/event/bandet-pluss-sondagskonsert-vokalister-kristin-fredbo-gramstad-og-ingvild-fredbo/
CATEGORIES:Alle Aktiviteter,Kulturkveld,Torsdagsmøte
ATTACH;FMTTYPE=image/jpeg:https://hoybraten.normisjon.no/content/uploads/sites/16/2024/08/Pluss-plakat-uten-navn-e1724619523410.jpg
END:VEVENT
END:VCALENDAR