BEGIN:VCALENDAR
VERSION:2.0
PRODID:-//Høybråten Normisjon - ECPv4.6.26.2//NONSGML v1.0//EN
CALSCALE:GREGORIAN
METHOD:PUBLISH
X-WR-CALNAME:Høybråten Normisjon
X-ORIGINAL-URL:https://hoybraten.normisjon.no
X-WR-CALDESC:Events for Høybråten Normisjon
BEGIN:VEVENT
DTSTART;TZID=Europe/Oslo:20241107T190000
DTEND;TZID=Europe/Oslo:20241107T210000
DTSTAMP:20260420T134011
CREATED:20240511T214131Z
LAST-MODIFIED:20240826T202216Z
UID:1543-1731006000-1731013200@hoybraten.normisjon.no
SUMMARY:Møte kl. 19:00. Jarle Skullerud. Tema: Når forventingene ikke blir oppfylt. Sang av Vidar Kristiansen
DESCRIPTION:
URL:https://hoybraten.normisjon.no/event/mote-kl-1900-15/
CATEGORIES:Alle Aktiviteter,Kulturkveld,Torsdagsmøte
ATTACH;FMTTYPE=image/jpeg:https://hoybraten.normisjon.no/content/uploads/sites/16/2024/05/Jarle-skullerud.jpg
END:VEVENT
END:VCALENDAR