BEGIN:VCALENDAR
VERSION:2.0
PRODID:-//Høybråten Normisjon - ECPv4.6.26.2//NONSGML v1.0//EN
CALSCALE:GREGORIAN
METHOD:PUBLISH
X-WR-CALNAME:Høybråten Normisjon
X-ORIGINAL-URL:https://hoybraten.normisjon.no
X-WR-CALDESC:Events for Høybråten Normisjon
BEGIN:VEVENT
DTSTART;TZID=Europe/Oslo:20241114T080000
DTEND;TZID=Europe/Oslo:20241114T170000
DTSTAMP:20260420T134031
CREATED:20240511T214331Z
LAST-MODIFIED:20240704T212815Z
UID:1545-1731571200-1731603600@hoybraten.normisjon.no
SUMMARY:Møte kl. 19:00. Johannes Morken taler. Tema: Forventing om frihet til tro
DESCRIPTION:
URL:https://hoybraten.normisjon.no/event/mote-kl-1900-16/
CATEGORIES:Alle Aktiviteter,Kulturkveld,Torsdagsmøte
ATTACH;FMTTYPE=image/jpeg:https://hoybraten.normisjon.no/content/uploads/sites/16/2024/05/Johannes-Morken-e1720128479951.jpg
END:VEVENT
END:VCALENDAR