BEGIN:VCALENDAR
VERSION:2.0
PRODID:-//Høybråten Normisjon - ECPv4.6.26.2//NONSGML v1.0//EN
CALSCALE:GREGORIAN
METHOD:PUBLISH
X-WR-CALNAME:Høybråten Normisjon
X-ORIGINAL-URL:https://hoybraten.normisjon.no
X-WR-CALDESC:Events for Høybråten Normisjon
BEGIN:VEVENT
DTSTART;TZID=Europe/Oslo:20241121T190000
DTEND;TZID=Europe/Oslo:20241121T210000
DTSTAMP:20260420T133925
CREATED:20240511T214426Z
LAST-MODIFIED:20240814T210343Z
UID:1547-1732215600-1732222800@hoybraten.normisjon.no
SUMMARY:Møte kl. 19:00 Arnfinn Halderaker taler
DESCRIPTION:
URL:https://hoybraten.normisjon.no/event/mote-kl-1900-17/
CATEGORIES:Alle Aktiviteter,Kulturkveld,Torsdagsmøte
ATTACH;FMTTYPE=image/jpeg:https://hoybraten.normisjon.no/content/uploads/sites/16/2020/10/Arnfinn-Halderaker-e1602443059249.jpg
END:VEVENT
END:VCALENDAR