BEGIN:VCALENDAR
VERSION:2.0
PRODID:-//Høybråten Normisjon - ECPv4.6.26.2//NONSGML v1.0//EN
CALSCALE:GREGORIAN
METHOD:PUBLISH
X-WR-CALNAME:Høybråten Normisjon
X-ORIGINAL-URL:https://hoybraten.normisjon.no
X-WR-CALDESC:Events for Høybråten Normisjon
BEGIN:VEVENT
DTSTART;TZID=Europe/Oslo:20241205T190000
DTEND;TZID=Europe/Oslo:20241205T210000
DTSTAMP:20260420T111219
CREATED:20240511T214946Z
LAST-MODIFIED:20240511T214946Z
UID:1549-1733425200-1733432400@hoybraten.normisjon.no
SUMMARY:Adventstiden i ord og toner ved Marianne Solbakken og MTB
DESCRIPTION:
URL:https://hoybraten.normisjon.no/event/adventstiden-i-ord-og-toner-ved-marianne-solbakken-og-mtb/
CATEGORIES:Alle Aktiviteter,Kulturkveld,Torsdagsmøte
ATTACH;FMTTYPE=image/jpeg:https://hoybraten.normisjon.no/content/uploads/sites/16/2019/12/HelligeTreKonger-e1575666811684.jpg
END:VEVENT
END:VCALENDAR