BEGIN:VCALENDAR
VERSION:2.0
PRODID:-//Høybråten Normisjon - ECPv4.6.26.2//NONSGML v1.0//EN
CALSCALE:GREGORIAN
METHOD:PUBLISH
X-WR-CALNAME:Høybråten Normisjon
X-ORIGINAL-URL:https://hoybraten.normisjon.no
X-WR-CALDESC:Events for Høybråten Normisjon
BEGIN:VEVENT
DTSTART;TZID=Europe/Oslo:20250904T190000
DTEND;TZID=Europe/Oslo:20250904T220000
DTSTAMP:20260419T174812
CREATED:20250611T091646Z
LAST-MODIFIED:20250831T200510Z
UID:1615-1757012400-1757023200@hoybraten.normisjon.no
SUMMARY:Møte kl 19:00 Therese Glendrange taler og forteller fra Mali/Senegal. Sang ved trioen MTB
DESCRIPTION:
URL:https://hoybraten.normisjon.no/event/mote-kl-1900-14/
CATEGORIES:Alle Aktiviteter,Kulturkveld,Torsdagsmøte
ATTACH;FMTTYPE=image/jpeg:https://hoybraten.normisjon.no/content/uploads/sites/16/2025/06/Therese-Glendrange-e1756670648690.jpg
END:VEVENT
END:VCALENDAR