BEGIN:VCALENDAR
VERSION:2.0
PRODID:-//Høybråten Normisjon - ECPv4.6.26.2//NONSGML v1.0//EN
CALSCALE:GREGORIAN
METHOD:PUBLISH
X-WR-CALNAME:Høybråten Normisjon
X-ORIGINAL-URL:https://hoybraten.normisjon.no
X-WR-CALDESC:Events for Høybråten Normisjon
BEGIN:VEVENT
DTSTART;TZID=Europe/Oslo:20250918T190000
DTEND;TZID=Europe/Oslo:20250918T220000
DTSTAMP:20260419T174819
CREATED:20250611T111239Z
LAST-MODIFIED:20250831T201317Z
UID:1622-1758222000-1758232800@hoybraten.normisjon.no
SUMMARY:Økern parkteaters høstkavalkade
DESCRIPTION:
URL:https://hoybraten.normisjon.no/event/okern-parkteaters-hostkavalkade/
CATEGORIES:Alle Aktiviteter,Kulturkveld,Torsdagsmøte
ATTACH;FMTTYPE=image/jpeg:https://hoybraten.normisjon.no/content/uploads/sites/16/2025/06/Hostkavalkade-2025.jpg
END:VEVENT
END:VCALENDAR