BEGIN:VCALENDAR
VERSION:2.0
PRODID:-//Høybråten Normisjon - ECPv4.6.26.2//NONSGML v1.0//EN
CALSCALE:GREGORIAN
METHOD:PUBLISH
X-WR-CALNAME:Høybråten Normisjon
X-ORIGINAL-URL:https://hoybraten.normisjon.no
X-WR-CALDESC:Events for Høybråten Normisjon
BEGIN:VEVENT
DTSTART;TZID=Europe/Oslo:20251017T190000
DTEND;TZID=Europe/Oslo:20251017T220000
DTSTAMP:20260419T154905
CREATED:20250611T112050Z
LAST-MODIFIED:20250831T202137Z
UID:1633-1760727600-1760738400@hoybraten.normisjon.no
SUMMARY:Fredag kl. 19:00Jubileumskonsert med Solveig Leithaug
DESCRIPTION:
URL:https://hoybraten.normisjon.no/event/jubileumskonsert-med-solveig-leithaug/
CATEGORIES:Alle Aktiviteter,Kulturkveld,Torsdagsmøte
ATTACH;FMTTYPE=image/jpeg:https://hoybraten.normisjon.no/content/uploads/sites/16/2025/06/Solveig-Leithaug.jpg
END:VEVENT
END:VCALENDAR