BEGIN:VCALENDAR
VERSION:2.0
PRODID:-//Høybråten Normisjon - ECPv4.6.26.2//NONSGML v1.0//EN
CALSCALE:GREGORIAN
METHOD:PUBLISH
X-WR-CALNAME:Høybråten Normisjon
X-ORIGINAL-URL:https://hoybraten.normisjon.no
X-WR-CALDESC:Events for Høybråten Normisjon
BEGIN:VEVENT
DTSTART;TZID=Europe/Oslo:20251113T190000
DTEND;TZID=Europe/Oslo:20251113T220000
DTSTAMP:20260419T142258
CREATED:20250831T211732Z
LAST-MODIFIED:20250831T211733Z
UID:1669-1763060400-1763071200@hoybraten.normisjon.no
SUMMARY:Møte kl. 19:00. Besøk av Internasjonal avdeling for å snakke om Normisjons arbeid i India
DESCRIPTION:
URL:https://hoybraten.normisjon.no/event/mote-kl-1900-besok-av-internasjonal-avdeling-for-a-snakke-om-normisjons-arbeid-i-india/
CATEGORIES:Alle Aktiviteter,Kulturkveld,Torsdagsmøte
ATTACH;FMTTYPE=image/jpeg:https://hoybraten.normisjon.no/content/uploads/sites/16/2025/08/India.jpg
END:VEVENT
END:VCALENDAR